BEGIN:VCALENDAR
VERSION:2.0
PRODID:-//ingeborg danz - ECPv6.15.20//NONSGML v1.0//EN
CALSCALE:GREGORIAN
METHOD:PUBLISH
X-ORIGINAL-URL:https://ingeborg-danz.de
X-WR-CALDESC:Veranstaltungen für ingeborg danz
REFRESH-INTERVAL;VALUE=DURATION:PT1H
X-Robots-Tag:noindex
X-PUBLISHED-TTL:PT1H
BEGIN:VTIMEZONE
TZID:Europe/Berlin
BEGIN:DAYLIGHT
TZOFFSETFROM:+0100
TZOFFSETTO:+0200
TZNAME:CEST
DTSTART:20220327T010000
END:DAYLIGHT
BEGIN:STANDARD
TZOFFSETFROM:+0200
TZOFFSETTO:+0100
TZNAME:CET
DTSTART:20221030T010000
END:STANDARD
BEGIN:DAYLIGHT
TZOFFSETFROM:+0100
TZOFFSETTO:+0200
TZNAME:CEST
DTSTART:20230326T010000
END:DAYLIGHT
BEGIN:STANDARD
TZOFFSETFROM:+0200
TZOFFSETTO:+0100
TZNAME:CET
DTSTART:20231029T010000
END:STANDARD
BEGIN:DAYLIGHT
TZOFFSETFROM:+0100
TZOFFSETTO:+0200
TZNAME:CEST
DTSTART:20240331T010000
END:DAYLIGHT
BEGIN:STANDARD
TZOFFSETFROM:+0200
TZOFFSETTO:+0100
TZNAME:CET
DTSTART:20241027T010000
END:STANDARD
END:VTIMEZONE
BEGIN:VEVENT
DTSTART;VALUE=DATE:20231220
DTEND;VALUE=DATE:20231221
DTSTAMP:20260422T121040
CREATED:20230721T185050Z
LAST-MODIFIED:20230721T185050Z
UID:707-1703030400-1703116799@ingeborg-danz.de
SUMMARY:J. S. Bach - Weihnachtsoratorium BWV 248 (Bonn\, Kreuzkirche)
DESCRIPTION:
URL:https://ingeborg-danz.de/kalender/j-s-bach-weihnachtsoratorium-bwv-248-bonn-kreuzkirche-2/
LOCATION:Bonn
CATEGORIES:Konzert
END:VEVENT
END:VCALENDAR