BEGIN:VCALENDAR
VERSION:2.0
PRODID:-//ingeborg danz - ECPv6.15.20//NONSGML v1.0//EN
CALSCALE:GREGORIAN
METHOD:PUBLISH
X-ORIGINAL-URL:https://ingeborg-danz.de
X-WR-CALDESC:Veranstaltungen für ingeborg danz
REFRESH-INTERVAL;VALUE=DURATION:PT1H
X-Robots-Tag:noindex
X-PUBLISHED-TTL:PT1H
BEGIN:VTIMEZONE
TZID:Europe/Berlin
BEGIN:DAYLIGHT
TZOFFSETFROM:+0100
TZOFFSETTO:+0200
TZNAME:CEST
DTSTART:20220327T010000
END:DAYLIGHT
BEGIN:STANDARD
TZOFFSETFROM:+0200
TZOFFSETTO:+0100
TZNAME:CET
DTSTART:20221030T010000
END:STANDARD
BEGIN:DAYLIGHT
TZOFFSETFROM:+0100
TZOFFSETTO:+0200
TZNAME:CEST
DTSTART:20230326T010000
END:DAYLIGHT
BEGIN:STANDARD
TZOFFSETFROM:+0200
TZOFFSETTO:+0100
TZNAME:CET
DTSTART:20231029T010000
END:STANDARD
BEGIN:DAYLIGHT
TZOFFSETFROM:+0100
TZOFFSETTO:+0200
TZNAME:CEST
DTSTART:20240331T010000
END:DAYLIGHT
BEGIN:STANDARD
TZOFFSETFROM:+0200
TZOFFSETTO:+0100
TZNAME:CET
DTSTART:20241027T010000
END:STANDARD
END:VTIMEZONE
BEGIN:VEVENT
DTSTART;VALUE=DATE:20230901
DTEND;VALUE=DATE:20230902
DTSTAMP:20260422T152735
CREATED:20230529T110530Z
LAST-MODIFIED:20230529T110821Z
UID:686-1693526400-1693612799@ingeborg-danz.de
SUMMARY:Argentinische Nacht (Rheingau-Musik-Festival\, Kloster Eberbach)
DESCRIPTION:
URL:https://ingeborg-danz.de/kalender/argentinische-nacht-rheingau-musik-festival-kloster-eberbach/
CATEGORIES:Konzert
END:VEVENT
BEGIN:VEVENT
DTSTART;VALUE=DATE:20230907
DTEND;VALUE=DATE:20230908
DTSTAMP:20260422T152735
CREATED:20230129T221112Z
LAST-MODIFIED:20230129T222447Z
UID:665-1694044800-1694131199@ingeborg-danz.de
SUMMARY:Liederabend mit Michael Gees (Zug\, Schweiz)
DESCRIPTION:Liederabend mit Michael Gees (Zug\, Schweiz)
URL:https://ingeborg-danz.de/kalender/liederabend/
LOCATION:Zug (Schweiz)
CATEGORIES:Konzert
END:VEVENT
BEGIN:VEVENT
DTSTART;VALUE=DATE:20230910
DTEND;VALUE=DATE:20230916
DTSTAMP:20260422T152735
CREATED:20230529T111344Z
LAST-MODIFIED:20230529T111344Z
UID:689-1694304000-1694822399@ingeborg-danz.de
SUMMARY:Meisterkurs Lied
DESCRIPTION:
URL:https://ingeborg-danz.de/kalender/meisterkurs-lied-3/
LOCATION:Arosa\, Arosa\, Schweiz
CATEGORIES:Kurs
END:VEVENT
END:VCALENDAR