BEGIN:VCALENDAR
VERSION:2.0
PRODID:-//ingeborg danz - ECPv6.15.20//NONSGML v1.0//EN
CALSCALE:GREGORIAN
METHOD:PUBLISH
X-WR-CALNAME:ingeborg danz
X-ORIGINAL-URL:https://ingeborg-danz.de
X-WR-CALDESC:Veranstaltungen für ingeborg danz
REFRESH-INTERVAL;VALUE=DURATION:PT1H
X-Robots-Tag:noindex
X-PUBLISHED-TTL:PT1H
BEGIN:VTIMEZONE
TZID:Europe/Berlin
BEGIN:DAYLIGHT
TZOFFSETFROM:+0100
TZOFFSETTO:+0200
TZNAME:CEST
DTSTART:20220327T010000
END:DAYLIGHT
BEGIN:STANDARD
TZOFFSETFROM:+0200
TZOFFSETTO:+0100
TZNAME:CET
DTSTART:20221030T010000
END:STANDARD
BEGIN:DAYLIGHT
TZOFFSETFROM:+0100
TZOFFSETTO:+0200
TZNAME:CEST
DTSTART:20230326T010000
END:DAYLIGHT
BEGIN:STANDARD
TZOFFSETFROM:+0200
TZOFFSETTO:+0100
TZNAME:CET
DTSTART:20231029T010000
END:STANDARD
BEGIN:DAYLIGHT
TZOFFSETFROM:+0100
TZOFFSETTO:+0200
TZNAME:CEST
DTSTART:20240331T010000
END:DAYLIGHT
BEGIN:STANDARD
TZOFFSETFROM:+0200
TZOFFSETTO:+0100
TZNAME:CET
DTSTART:20241027T010000
END:STANDARD
END:VTIMEZONE
BEGIN:VEVENT
DTSTART;VALUE=DATE:20231110
DTEND;VALUE=DATE:20231111
DTSTAMP:20260422T122132
CREATED:20230529T112912Z
LAST-MODIFIED:20230529T112912Z
UID:694-1699574400-1699660799@ingeborg-danz.de
SUMMARY:W. A. Mozart - Requiem KV 626 (Stuttgart\, Stiftskirche)
DESCRIPTION:
URL:https://ingeborg-danz.de/kalender/w-a-mozart-requiem-kv-626-stuttgart-stiftskirche/
CATEGORIES:Konzert
END:VEVENT
BEGIN:VEVENT
DTSTART;VALUE=DATE:20231111
DTEND;VALUE=DATE:20231112
DTSTAMP:20260422T122132
CREATED:20230529T113816Z
LAST-MODIFIED:20230529T113816Z
UID:699-1699660800-1699747199@ingeborg-danz.de
SUMMARY:W. A. Mozart - Requiem KV 626 (Bonn\, Kreuzkirche)
DESCRIPTION:
URL:https://ingeborg-danz.de/kalender/w-a-mozart-requiem-kv-626-bonn-kreuzkirche/
CATEGORIES:Konzert
END:VEVENT
BEGIN:VEVENT
DTSTART;VALUE=DATE:20231112
DTEND;VALUE=DATE:20231113
DTSTAMP:20260422T122132
CREATED:20230529T113241Z
LAST-MODIFIED:20230529T113504Z
UID:696-1699747200-1699833599@ingeborg-danz.de
SUMMARY:W. A. Mozart - Requiem KV 626 (Köln\, Trinitatiskirche)
DESCRIPTION:
URL:https://ingeborg-danz.de/kalender/w-a-mozart-requiem-kv-626-koeln-trinitatiskirche/
LOCATION:köln\, Tinitatiskirche
CATEGORIES:Konzert
END:VEVENT
BEGIN:VEVENT
DTSTART;VALUE=DATE:20231126
DTEND;VALUE=DATE:20231127
DTSTAMP:20260422T122132
CREATED:20231009T121044Z
LAST-MODIFIED:20231015T133759Z
UID:716-1700956800-1701043199@ingeborg-danz.de
SUMMARY:J. S. Bach - h-moll-Messe BWV 232 Aachen (St. Michael))
DESCRIPTION:
URL:https://ingeborg-danz.de/kalender/j-s-bach-h-moll-messe-bwv-232-aachen-annakirche/
CATEGORIES:Konzert
END:VEVENT
BEGIN:VEVENT
DTSTART;VALUE=DATE:20231127
DTEND;VALUE=DATE:20231128
DTSTAMP:20260422T122132
CREATED:20230721T190252Z
LAST-MODIFIED:20230721T192050Z
UID:709-1701043200-1701129599@ingeborg-danz.de
SUMMARY:Konzertlesung "Eine Brücke zum Morgen" - Musik und Literatur aus Theresienstadt (Kempen\, Thomaskirche)
DESCRIPTION:
URL:https://ingeborg-danz.de/kalender/konzertlesung-eine-bruecke-zum-morgen-musik-und-literatur-aus-theresienstadt/
LOCATION:Kempen
CATEGORIES:Konzert
END:VEVENT
END:VCALENDAR