BEGIN:VCALENDAR
VERSION:2.0
PRODID:-//ingeborg danz - ECPv6.15.20//NONSGML v1.0//EN
CALSCALE:GREGORIAN
METHOD:PUBLISH
X-ORIGINAL-URL:https://ingeborg-danz.de
X-WR-CALDESC:Veranstaltungen für ingeborg danz
REFRESH-INTERVAL;VALUE=DURATION:PT1H
X-Robots-Tag:noindex
X-PUBLISHED-TTL:PT1H
BEGIN:VTIMEZONE
TZID:Europe/Berlin
BEGIN:DAYLIGHT
TZOFFSETFROM:+0100
TZOFFSETTO:+0200
TZNAME:CEST
DTSTART:20230326T010000
END:DAYLIGHT
BEGIN:STANDARD
TZOFFSETFROM:+0200
TZOFFSETTO:+0100
TZNAME:CET
DTSTART:20231029T010000
END:STANDARD
BEGIN:DAYLIGHT
TZOFFSETFROM:+0100
TZOFFSETTO:+0200
TZNAME:CEST
DTSTART:20240331T010000
END:DAYLIGHT
BEGIN:STANDARD
TZOFFSETFROM:+0200
TZOFFSETTO:+0100
TZNAME:CET
DTSTART:20241027T010000
END:STANDARD
BEGIN:DAYLIGHT
TZOFFSETFROM:+0100
TZOFFSETTO:+0200
TZNAME:CEST
DTSTART:20250330T010000
END:DAYLIGHT
BEGIN:STANDARD
TZOFFSETFROM:+0200
TZOFFSETTO:+0100
TZNAME:CET
DTSTART:20251026T010000
END:STANDARD
END:VTIMEZONE
BEGIN:VEVENT
DTSTART;VALUE=DATE:20241114
DTEND;VALUE=DATE:20241115
DTSTAMP:20260421T174146
CREATED:20240828T095503Z
LAST-MODIFIED:20240828T102020Z
UID:793-1731542400-1731628799@ingeborg-danz.de
SUMMARY:J. S. Bach - h-Moll-Messe BWV 232 (Köln\, Dom)
DESCRIPTION:
URL:https://ingeborg-danz.de/kalender/j-s-bach-h-moll-messe-bwv-232-koeln-dom/
CATEGORIES:Konzert
END:VEVENT
BEGIN:VEVENT
DTSTART;VALUE=DATE:20241116
DTEND;VALUE=DATE:20241117
DTSTAMP:20260421T174146
CREATED:20240828T100130Z
LAST-MODIFIED:20240828T102646Z
UID:802-1731715200-1731801599@ingeborg-danz.de
SUMMARY:J. S. Bach -h-Moll-Messe (Rom\, Basilica di Santa Maria Maggiore)
DESCRIPTION:
URL:https://ingeborg-danz.de/kalender/j-s-bach-h-moll-messe-rom-basilica-di-santa-maria-maggiore/
LOCATION:fondazionepromusicaeartesacra.org
CATEGORIES:Konzert
END:VEVENT
END:VCALENDAR